BEGIN:VCALENDAR
VERSION:2.0
PRODID:-//Anura Honolulu Hawaii - ECPv6.15.20//NONSGML v1.0//EN
CALSCALE:GREGORIAN
METHOD:PUBLISH
X-WR-CALNAME:Anura Honolulu Hawaii
X-ORIGINAL-URL:https://anuraevents.com
X-WR-CALDESC:Events for Anura Honolulu Hawaii
REFRESH-INTERVAL;VALUE=DURATION:PT1H
X-Robots-Tag:noindex
X-PUBLISHED-TTL:PT1H
BEGIN:VTIMEZONE
TZID:Pacific/Honolulu
BEGIN:STANDARD
TZOFFSETFROM:-1000
TZOFFSETTO:-1000
TZNAME:HST
DTSTART:20250101T000000
END:STANDARD
END:VTIMEZONE
BEGIN:VEVENT
DTSTART;TZID=Pacific/Honolulu:20260220T235900
DTEND;TZID=Pacific/Honolulu:20260221T060000
DTSTAMP:20260422T001547
CREATED:20260227T004650Z
LAST-MODIFIED:20260227T004650Z
UID:3600-1771631940-1771653600@anuraevents.com
SUMMARY:Firesoup & Fknhnl Present
DESCRIPTION:Upstairs: \nZapper (live) \nDatgirl (live) \nHighsteaks \nFiresoup \nJungle Jess \nSpecial closing set by Gardel Leal\, Fathom\, Moniker \nAirport lounge: \nB2B \nChaddy Daddy \nDisco Slut \nJordan Strong \nYaz Suga Dada \nHI-C
URL:https://anuraevents.com/event/firesoup-fknhnl-present/
ATTACH;FMTTYPE=image/jpeg:https://anuraevents.com/wp-content/uploads/2026/02/untitled.jpg
ORGANIZER;CN="FKN HNL":MAILTO:fhphoto85@gmail.com
END:VEVENT
END:VCALENDAR